BEGIN:VCALENDAR
VERSION:2.0
PRODID:-//FRYN - ECPv6.15.20//NONSGML v1.0//EN
CALSCALE:GREGORIAN
METHOD:PUBLISH
X-WR-CALNAME:FRYN
X-ORIGINAL-URL:https://www.fryn.nl
X-WR-CALDESC:Evenementen voor FRYN
REFRESH-INTERVAL;VALUE=DURATION:PT1H
X-Robots-Tag:noindex
X-PUBLISHED-TTL:PT1H
BEGIN:VTIMEZONE
TZID:Europe/Amsterdam
BEGIN:DAYLIGHT
TZOFFSETFROM:+0100
TZOFFSETTO:+0200
TZNAME:CEST
DTSTART:20250330T010000
END:DAYLIGHT
BEGIN:STANDARD
TZOFFSETFROM:+0200
TZOFFSETTO:+0100
TZNAME:CET
DTSTART:20251026T010000
END:STANDARD
BEGIN:DAYLIGHT
TZOFFSETFROM:+0100
TZOFFSETTO:+0200
TZNAME:CEST
DTSTART:20260329T010000
END:DAYLIGHT
BEGIN:STANDARD
TZOFFSETFROM:+0200
TZOFFSETTO:+0100
TZNAME:CET
DTSTART:20261025T010000
END:STANDARD
BEGIN:DAYLIGHT
TZOFFSETFROM:+0100
TZOFFSETTO:+0200
TZNAME:CEST
DTSTART:20270328T010000
END:DAYLIGHT
BEGIN:STANDARD
TZOFFSETFROM:+0200
TZOFFSETTO:+0100
TZNAME:CET
DTSTART:20271031T010000
END:STANDARD
END:VTIMEZONE
BEGIN:VEVENT
DTSTART;TZID=Europe/Amsterdam:20260425T080000
DTEND;TZID=Europe/Amsterdam:20260531T233000
DTSTAMP:20260425T161252
CREATED:20260424T202536Z
LAST-MODIFIED:20260424T202536Z
UID:3230-1777104000-1780270200@www.fryn.nl
SUMMARY:Ga op landscape-hunt in Zuidoost-Friesland!
DESCRIPTION:ELAN Zuidoost-Friesland en Landschapsbeheer Friesland hebben deze activiteit bedacht om meer mensen bewust te maken van het bijzondere landschap in Zuidoost-Friesland. Als organisaties zijn wij bezig om een Kwaliteitsgids voor de Zuidelijke Friese Wouden op te stellen. Dat is een boekwerk waarin staat beschreven hoe het landschap van Zuidoost-Friesland eruit zou moeten zien om het zo aantrekkelijk mogelijk te maken voor vogels\, insecten\, wilde zoogdieren en allerlei planten. Boeren en burgers die in het gebied wonen en werken\, kunnen met hulp van deze informatie aan de slag gaan met het verbeteren van de kwaliteit van het landschap op eigen erf en in de directe omgeving. We hopen dat de landscape-hunt hieraan bijdraagt! \nLandscape-hunt in ELAN gebied – ELAN Zuidoost Friesland
URL:https://www.fryn.nl/event/ga-op-landscape-hunt-in-zuidoost-friesland/
CATEGORIES:Er op uit
END:VEVENT
BEGIN:VEVENT
DTSTART;TZID=Europe/Amsterdam:20260503T140000
DTEND;TZID=Europe/Amsterdam:20260503T153000
DTSTAMP:20260425T161252
CREATED:20260425T111636Z
LAST-MODIFIED:20260425T111636Z
UID:3250-1777816800-1777822200@www.fryn.nl
SUMMARY:Parkenrondleiding Tropische kas Beetsterzwaag
DESCRIPTION:Vanaf mei tot en met oktober organiseert de Tropische Kas deze maandelijkse rondleiding. \nHet kassencomplex “De Tropische Kas” maakt van oudsher deel uit van de tuinen van het Lycklamahuis. De tuinen strekken zich uit zowel aan de achterkant als aan de voorkant van dit voormalig adellijk woonhuis van de familie Lycklama à Nijeholt. In 1928 werd ook de tuin van de buurman (Andreaehûs) erbij gekocht\, zodat een flink park ontstond. Dit alles is nu een openbaar park vol met speciale bomen\, zoals bijvoorbeeld de Mammoetboom (Sequoia)\, Bonte esdoorn\, Moerascypres\, Moerbei\, tamme Kastanje en een geweldige Plataan. Ook is er een boomgaard met oude fruitrassen en zijn er kunstwerken te bewonderen. \nOnze gids neemt u graag mee op deze wandeling om haar kennis en liefde voor dit stukje natuur met u te delen. \nStart en einde van de wandeling is bij de Tropische kas. \nDatum: zondag 3 mei 2026\nTijd: 14.00-15.30 uur\nKosten: € 6\,00 p.p. inclusief koffie/thee\nLocatie: Tropische Kas Beetsterzwaag\, ingang tegenover Hoofdstraat 80
URL:https://www.fryn.nl/event/parkenrondleiding-tropische-kas-beetsterzwaag/
CATEGORIES:Er op uit
END:VEVENT
BEGIN:VEVENT
DTSTART;TZID=Europe/Amsterdam:20260510T100000
DTEND;TZID=Europe/Amsterdam:20260511T170000
DTSTAMP:20260425T161252
CREATED:20260425T110544Z
LAST-MODIFIED:20260425T110544Z
UID:3245-1778407200-1778518800@www.fryn.nl
SUMMARY:Lentefair Frederiksoord
DESCRIPTION:De Lentefair in de Tuinen van Frederiksoord maakt zich op voor de grootste editie uit haar geschiedenis. Op zaterdag 9 en zondag 10 mei strijken tijdens het Moederdagweekend ruim 140 pop-upshops neer in de boomgaard in het hart van de Koloniën van Weldadigheid.   \nDe Tuinen staan sinds 2021 op de UNESCO Werelderfgoedlijst en vormt een uniek levend museum in de buitenlucht. Met meer dan 800 fruitbomen van ruim 550 verschillende rassen is het de ideale locatie voor het voorjaarsevenement. In de boomgaard die op dat moment volop in bloei staat\, kunnen bezoekers winkelen bij meer dan 140 deelnemers. Het aanbod is breed en varieert van planten en bloemen tot mode\, lifestyle en nog heel veel meer.  Tot 12 jaar gratis entree.
URL:https://www.fryn.nl/event/lentefair-frederiksoord/
END:VEVENT
BEGIN:VEVENT
DTSTART;TZID=Europe/Amsterdam:20260511T183000
DTEND;TZID=Europe/Amsterdam:20260511T233000
DTSTAMP:20260425T161252
CREATED:20260425T103847Z
LAST-MODIFIED:20260425T103847Z
UID:3238-1778524200-1778542200@www.fryn.nl
SUMMARY:Feestpuzzelrit
DESCRIPTION:Op maandag 11 mei 2026  houdt Stichting Feestweek Marum in samenwerking met MAC De Wâlden uit Drachten haar jaarlijkse Feestpuzzelrit . \nVanaf 18.00 kunt u inschrijven in de \nfeesttent \nHoornweg 40b \nMarum \nEr wordt gereden volgens het puzzelreglement van MAC De Wâlden. Dit kunt u downloaden via www.macdewalden.nl \nU kunt starten tussen 18.30 uur en 19.30 uur. \nIedereen kan hier aan meedoen. \nDe rit staat open voor motoren en auto’s. \nEr zijn een puzzelklasse voor beginners uit Marum\, een puzzelklasse voor beginners niet uit Marum en een C-klasse voor gevorderden. \nInschrijfgeld is 5 euro per voertuig.
URL:https://www.fryn.nl/event/feestpuzzelrit/
CATEGORIES:Er op uit
END:VEVENT
END:VCALENDAR