BEGIN:VCALENDAR
VERSION:2.0
PRODID:-//FRYN - ECPv6.15.20//NONSGML v1.0//EN
CALSCALE:GREGORIAN
METHOD:PUBLISH
X-WR-CALNAME:FRYN
X-ORIGINAL-URL:https://www.fryn.nl
X-WR-CALDESC:Evenementen voor FRYN
REFRESH-INTERVAL;VALUE=DURATION:PT1H
X-Robots-Tag:noindex
X-PUBLISHED-TTL:PT1H
BEGIN:VTIMEZONE
TZID:Europe/Amsterdam
BEGIN:DAYLIGHT
TZOFFSETFROM:+0100
TZOFFSETTO:+0200
TZNAME:CEST
DTSTART:20250330T010000
END:DAYLIGHT
BEGIN:STANDARD
TZOFFSETFROM:+0200
TZOFFSETTO:+0100
TZNAME:CET
DTSTART:20251026T010000
END:STANDARD
BEGIN:DAYLIGHT
TZOFFSETFROM:+0100
TZOFFSETTO:+0200
TZNAME:CEST
DTSTART:20260329T010000
END:DAYLIGHT
BEGIN:STANDARD
TZOFFSETFROM:+0200
TZOFFSETTO:+0100
TZNAME:CET
DTSTART:20261025T010000
END:STANDARD
BEGIN:DAYLIGHT
TZOFFSETFROM:+0100
TZOFFSETTO:+0200
TZNAME:CEST
DTSTART:20270328T010000
END:DAYLIGHT
BEGIN:STANDARD
TZOFFSETFROM:+0200
TZOFFSETTO:+0100
TZNAME:CET
DTSTART:20271031T010000
END:STANDARD
END:VTIMEZONE
BEGIN:VEVENT
DTSTART;TZID=Europe/Amsterdam:20260503T140000
DTEND;TZID=Europe/Amsterdam:20260503T153000
DTSTAMP:20260425T225607
CREATED:20260425T111636Z
LAST-MODIFIED:20260425T111636Z
UID:3250-1777816800-1777822200@www.fryn.nl
SUMMARY:Parkenrondleiding Tropische kas Beetsterzwaag
DESCRIPTION:Vanaf mei tot en met oktober organiseert de Tropische Kas deze maandelijkse rondleiding. \nHet kassencomplex “De Tropische Kas” maakt van oudsher deel uit van de tuinen van het Lycklamahuis. De tuinen strekken zich uit zowel aan de achterkant als aan de voorkant van dit voormalig adellijk woonhuis van de familie Lycklama à Nijeholt. In 1928 werd ook de tuin van de buurman (Andreaehûs) erbij gekocht\, zodat een flink park ontstond. Dit alles is nu een openbaar park vol met speciale bomen\, zoals bijvoorbeeld de Mammoetboom (Sequoia)\, Bonte esdoorn\, Moerascypres\, Moerbei\, tamme Kastanje en een geweldige Plataan. Ook is er een boomgaard met oude fruitrassen en zijn er kunstwerken te bewonderen. \nOnze gids neemt u graag mee op deze wandeling om haar kennis en liefde voor dit stukje natuur met u te delen. \nStart en einde van de wandeling is bij de Tropische kas. \nDatum: zondag 3 mei 2026\nTijd: 14.00-15.30 uur\nKosten: € 6\,00 p.p. inclusief koffie/thee\nLocatie: Tropische Kas Beetsterzwaag\, ingang tegenover Hoofdstraat 80
URL:https://www.fryn.nl/event/parkenrondleiding-tropische-kas-beetsterzwaag/
CATEGORIES:Er op uit
END:VEVENT
END:VCALENDAR